BEGIN:VCALENDAR
VERSION:2.0
PRODID:-//Sri Papaji Center - ECPv6.0.8//NONSGML v1.0//EN
CALSCALE:GREGORIAN
METHOD:PUBLISH
X-WR-CALNAME:Sri Papaji Center
X-ORIGINAL-URL:https://www.sripapajicenter.net
X-WR-CALDESC:Eventi per Sri Papaji Center
REFRESH-INTERVAL;VALUE=DURATION:PT1H
X-Robots-Tag:noindex
X-PUBLISHED-TTL:PT1H
BEGIN:VTIMEZONE
TZID:Europe/Rome
BEGIN:DAYLIGHT
TZOFFSETFROM:+0100
TZOFFSETTO:+0200
TZNAME:CEST
DTSTART:20260329T010000
END:DAYLIGHT
BEGIN:STANDARD
TZOFFSETFROM:+0200
TZOFFSETTO:+0100
TZNAME:CET
DTSTART:20261025T010000
END:STANDARD
END:VTIMEZONE
BEGIN:VEVENT
DTSTART;VALUE=DATE:20260426
DTEND;VALUE=DATE:20260427
DTSTAMP:20260426T061952
CREATED:20260302T084738Z
LAST-MODIFIED:20260306T222717Z
UID:31804-1777161600-1777247999@www.sripapajicenter.net
SUMMARY:Meditazione\, Satsang e Kirtan
DESCRIPTION:MEDITAZIONE\, SATSANG E KIRTANAprile 26\nShanti Gaia Lanuvio (RM)Prenota oraMEDITAZIONE\, SATSANG E KIRTANAprile 26\nShanti Gaia Lanuvio (RM)Prenota oraMEDITAZIONE\, SATSANG E KIRTANAprile 26Shanti Gaia\nLanuvio (RM)Prenota oraCOS’È UN INCONTRO KIRTAN MEDITAZIONE E SATSANG ?Il Kirtan è un’opportunità di arresa al cuore. Una chiave preziosa per accedere alla pace e alla beatitudine. Si canta in gruppo seguendo gli strumenti e le voci che conducono il canto. Segue l’insegnamento di Neeraja e il satsang. \n\n									\n									\n									\n									\n								PRENOTAZIONEAccetto l'uso dei miei dati come indicato nell'  Informativa sulla Privacy  \nInviaGrazie per il vostro messaggio. È stato inviato.×Si è verificato un errore nell'invio del messaggio. Riprovare di nuovo.×PROGRAMMAOgni incontro comprende kirtan\, momenti di silenzio\, l’insegnamento e uno spazio per domande e risposte.PRENOTAZIONI E PAGAMENTO\nPrenotazione indispensabile entro e non oltre le 18:00 di venerdì 24 Aprile\nPagamento in sede \nORARI\nIl cancello apre alle 14:45\nPuntualità richiesta e gradita\nIl programma inizia alle 15:15 e termina alle 17:15 \nCOSA PORTARE CON SÉ\nAbbigliamento comodo e semplice per le sedute di meditazione\, scarpe comode per esterni in campagna. \nNEERAJAHa praticato meditazione nei monasteri tibetani sull’Himalaya dal 1981 al 1991 sotto la guida del Dalai Lama\, Kalu Rinpoche e Situpa Rinpoche. Discepola diretta di H.W.L. Poonja (Papaji) ha vissuto nella dimora del Maestro fino alla sua dipartita. Fondatrice del Centro di Meditazione Sri Papaji Center (Roma). Conduce ritiri di meditazione e incontri di satsang in Italia e all’estero. \nNata in Italia\, è un essere dall’aspetto semplice e gioioso\, innamorata della bellezza che dimora nel cuore. La sua natura libera l’ha indotta a dedicare la sua vita al fiorire della verità. Fin da bambina sviluppò una forte passione mistica che la portava a rimanere in silenzio e quiete\, contemplando la luce e la pace interiore. \nvisita il sito webSegui Neeraja
URL:https://www.sripapajicenter.net/evento/kirtan-26-04/
LOCATION:Shanti Gaia\, Lanuvio\, Roma\, Via di Colle Crocette\, 2\, RM\, 00075\, Italia
ATTACH;FMTTYPE=image/jpeg:https://www.sripapajicenter.net/wp-content/uploads/2020/08/Kirtan-2.jpg
ORGANIZER;CN="Sri%20Papaji%20Center":MAILTO:info@sripapajicenter.net
END:VEVENT
END:VCALENDAR